BEGIN:VCALENDAR
VERSION:2.0
PRODID:-//AMS//NONSGML v1.0//EN
BEGIN:VEVENT
DTSTAMP:20240212T000000
DTSTART:20240827T000000
DTEND:20240829T000000
SUMMARY:The 9th International Conference on Control and Optimization with Industrial Applications
DESCRIPTION:The 9th International Conference on Control and Optimization with Industrial Applications http://coia-conf.org
END:VEVENT
END:VCALENDAR
