BEGIN:VCALENDAR
VERSION:2.0
PRODID:-//AMS//NONSGML v1.0//EN
BEGIN:VEVENT
DTSTAMP:20240212T000000
DTSTART:20240623T000000
DTEND:20240629T000000
SUMMARY:Open Communications in Nonlinear Mathematical Physics - 2024
DESCRIPTION:Open Communications in Nonlinear Mathematical Physics - 2024 http://euler-ocnmp.de/
END:VEVENT
END:VCALENDAR
