BEGIN:VCALENDAR
VERSION:2.0
PRODID:-//AMS//NONSGML v1.0//EN
BEGIN:VEVENT
DTSTAMP:20240212T000000
DTSTART:20240624T000000
DTEND:20240705T000000
SUMMARY:ADJOINT 2024
DESCRIPTION:ADJOINT 2024 http://www.slmath.org/adjoint/385
END:VEVENT
END:VCALENDAR
