BEGIN:VCALENDAR
VERSION:2.0
PRODID:-//AMS//NONSGML v1.0//EN
BEGIN:VEVENT
DTSTAMP:20240212T000000
DTSTART:20240624T000000
DTEND:20240628T000000
SUMMARY:AIM Virtual Workshop: Formalising algebraic geometry
DESCRIPTION:AIM Virtual Workshop: Formalising algebraic geometry http://aimath.org/workshops/upcoming/alggeominlean/
END:VEVENT
END:VCALENDAR
