BEGIN:VCALENDAR
VERSION:2.0
PRODID:-//AMS//NONSGML v1.0//EN
BEGIN:VEVENT
DTSTAMP:20240212T000000
DTSTART:20240513T000000
DTEND:20240517T000000
SUMMARY:AIM Workshop: High-dimensional phenomena in discrete analysis
DESCRIPTION:AIM Workshop: High-dimensional phenomena in discrete analysis http://aimath.org/workshops/upcoming/highdimdiscrete/
END:VEVENT
END:VCALENDAR
