BEGIN:VCALENDAR
VERSION:2.0
PRODID:-//AMS//NONSGML v1.0//EN
BEGIN:VEVENT
DTSTAMP:20240205T000000
DTSTART:20240129T000000
DTEND:20240202T000000
SUMMARY:Recent Trends in Nonlinear Science (RTNS) 2024
DESCRIPTION:Recent Trends in Nonlinear Science (RTNS) 2024 http://www.dance-net.org/rtns2024/
END:VEVENT
END:VCALENDAR
