BEGIN:VCALENDAR
VERSION:2.0
PRODID:-//AMS//NONSGML v1.0//EN
BEGIN:VEVENT
DTSTAMP:20240212T000000
DTSTART:20240708T000000
DTEND:20240712T000000
SUMMARY:International Meeting on Numerical Semigroups (IMNS) 2024
DESCRIPTION:International Meeting on Numerical Semigroups (IMNS) 2024 http://imns2024.uca.es/
END:VEVENT
END:VCALENDAR
