BEGIN:VCALENDAR
VERSION:2.0
PRODID:-//AMS//NONSGML v1.0//EN
BEGIN:VEVENT
DTSTAMP:20240212T000000
DTSTART:20240526T000000
DTEND:20240531T000000
SUMMARY:XXII GEOMETRICAL SEMINAR
DESCRIPTION:XXII GEOMETRICAL SEMINAR http://tesla.pmf.ni.ac.rs/people/geometrijskiseminarxxii/
END:VEVENT
END:VCALENDAR
