BEGIN:VCALENDAR
VERSION:2.0
PRODID:-//AMS//NONSGML v1.0//EN
BEGIN:VEVENT
DTSTAMP:20240212T000000
DTSTART:20240603T000000
DTEND:20240614T000000
SUMMARY:Computational Aspects of Thin Groups
DESCRIPTION:Computational Aspects of Thin Groups http://ims.nus.edu.sg/events/computational-aspects-of-thin-groups/
END:VEVENT
END:VCALENDAR
