BEGIN:VCALENDAR
VERSION:2.0
PRODID:-//AMS//NONSGML v1.0//EN
BEGIN:VEVENT
DTSTAMP:20240212T000000
DTSTART:20240826T000000
DTEND:20240830T000000
SUMMARY:VII The Latin American and Caribbean Mathematics Congress
DESCRIPTION:VII The Latin American and Caribbean Mathematics Congress http://www.mat.ufpb.br/clam/
END:VEVENT
END:VCALENDAR
