BEGIN:VCALENDAR
VERSION:2.0
PRODID:-//AMS//NONSGML v1.0//EN
BEGIN:VEVENT
DTSTAMP:20240212T000000
DTSTART:20240826T000000
DTEND:20240830T000000
SUMMARY:The International Conference on Free Boundary Problems: Theory and Application
DESCRIPTION:The International Conference on Free Boundary Problems: Theory and Application http://www.mat.ufpb.br/fbp2024
END:VEVENT
END:VCALENDAR
