BEGIN:VCALENDAR
VERSION:2.0
PRODID:-//AMS//NONSGML v1.0//EN
BEGIN:VEVENT
DTSTAMP:20240212T000000
DTSTART:20240904T000000
DTEND:20240907T000000
SUMMARY:Approximation Theory and Special Functions - ATSF 2024 Conference - 8th Series
DESCRIPTION:Approximation Theory and Special Functions - ATSF 2024 Conference - 8th Series http://sites.google.com/view/atsf2024
END:VEVENT
END:VCALENDAR
