BEGIN:VCALENDAR
VERSION:2.0
PRODID:-//AMS//NONSGML v1.0//EN
BEGIN:VEVENT
DTSTAMP:20240212T000000
DTSTART:20240307T000000
DTEND:20240310T000000
SUMMARY:Asymptotics in complex geometry: a conference in memory of Steve Zelditch
DESCRIPTION:Asymptotics in complex geometry: a conference in memory of Steve Zelditch http://sites.google.com/view/asymptotics/
END:VEVENT
END:VCALENDAR
