BEGIN:VCALENDAR
VERSION:2.0
PRODID:-//AMS//NONSGML v1.0//EN
BEGIN:VEVENT
DTSTAMP:20240212T000000
DTSTART:20240603T000000
DTEND:20240607T000000
SUMMARY:AIM Workshop: Groups of dynamical origin
DESCRIPTION:AIM Workshop: Groups of dynamical origin http://aimath.org/workshops/upcoming/groupdynamorigin/
END:VEVENT
END:VCALENDAR
