BEGIN:VCALENDAR
VERSION:2.0
PRODID:-//AMS//NONSGML v1.0//EN
BEGIN:VEVENT
DTSTAMP:20240212T000000
DTSTART:20240403T000000
DTEND:20240405T000000
SUMMARY:Critical Issues in Mathematics Education 2024: "Bringing Innovation to Scale: Teaching-Focused Faculty as Change Agents"
DESCRIPTION:Critical Issues in Mathematics Education 2024: "Bringing Innovation to Scale: Teaching-Focused Faculty as Change Agents" http://www.slmath.org/workshops/1096#overview_workshop
END:VEVENT
END:VCALENDAR
