BEGIN:VCALENDAR
VERSION:2.0
PRODID:-//AMS//NONSGML v1.0//EN
BEGIN:VEVENT
DTSTAMP:20240212T000000
DTSTART:20240821T000000
DTEND:20240923T000000
SUMMARY:Connections Workshop: New Frontiers in Curvature & Special Geometric Structures and Analysis
DESCRIPTION:Connections Workshop: New Frontiers in Curvature & Special Geometric Structures and Analysis http://www.slmath.org/workshops/1092#overview_workshop
END:VEVENT
END:VCALENDAR
