BEGIN:VCALENDAR
VERSION:2.0
PRODID:-//AMS//NONSGML v1.0//EN
BEGIN:VEVENT
DTSTAMP:20240212T000000
DTSTART:20240826T000000
DTEND:20240830T000000
SUMMARY:Introductory Workshop: New Frontiers in Curvature
DESCRIPTION:Introductory Workshop: New Frontiers in Curvature http://www.slmath.org/workshops/1093#overview_workshop
END:VEVENT
END:VCALENDAR
