BEGIN:VCALENDAR
VERSION:2.0
PRODID:-//AMS//NONSGML v1.0//EN
BEGIN:VEVENT
DTSTAMP:20240212T000000
DTSTART:20240903T000000
DTEND:20240906T000000
SUMMARY:Introductory Workshop: Special Geometric Structures and Analysis
DESCRIPTION:Introductory Workshop: Special Geometric Structures and Analysis http://www.slmath.org/workshops/1094#overview_workshop
END:VEVENT
END:VCALENDAR
