BEGIN:VCALENDAR
VERSION:2.0
PRODID:-//AMS//NONSGML v1.0//EN
BEGIN:VEVENT
DTSTAMP:20240212T000000
DTSTART:20241021T000000
DTEND:20241025T000000
SUMMARY:Recent Progress on Geometric Analysis and Riemannian Geometry
DESCRIPTION:Recent Progress on Geometric Analysis and Riemannian Geometry http://www.slmath.org/workshops/1111#overview_workshop
END:VEVENT
END:VCALENDAR
