BEGIN:VCALENDAR
VERSION:2.0
PRODID:-//AMS//NONSGML v1.0//EN
BEGIN:VEVENT
DTSTAMP:20240212T000000
DTSTART:20240722T000000
DTEND:20240726T000000
SUMMARY:AIM workshop: Graph Theory:structural properties, labelings, and connections to applications
DESCRIPTION:AIM workshop: Graph Theory:structural properties, labelings, and connections to applications http://aimath.org/workshops/upcoming/graphstructureapp/
END:VEVENT
END:VCALENDAR
