BEGIN:VCALENDAR
VERSION:2.0
PRODID:-//AMS//NONSGML v1.0//EN
BEGIN:VEVENT
DTSTAMP:20240212T000000
DTSTART:20240513T000000
DTEND:20240712T000000
SUMMARY:INdAM Intensive Period on Poisson Geometry and Mathematical Physics
DESCRIPTION:INdAM Intensive Period on Poisson Geometry and Mathematical Physics http://sites.google.com/view/poisson2024/home
END:VEVENT
END:VCALENDAR
