BEGIN:VCALENDAR
VERSION:2.0
PRODID:-//AMS//NONSGML v1.0//EN
BEGIN:VEVENT
DTSTAMP:20240212T000000
DTSTART:20240701T000000
DTEND:20240712T000000
SUMMARY:Poisson 2024 - Summer School and International Conference
DESCRIPTION:Poisson 2024 - Summer School and International Conference http://sites.google.com/view/poisson2024/poisson-2024
END:VEVENT
END:VCALENDAR
