BEGIN:VCALENDAR
VERSION:2.0
PRODID:-//AMS//NONSGML v1.0//EN
BEGIN:VEVENT
DTSTAMP:20240212T000000
DTSTART:20240221T000000
DTEND:20240223T000000
SUMMARY:Stochastics and Machine Learning in Finance, Econometric Risk Modeling, and Other Sciences
DESCRIPTION:Stochastics and Machine Learning in Finance, Econometric Risk Modeling, and Other Sciences http://conferences.uaeu.ac.ae/smlf24/en/index.shtml
END:VEVENT
END:VCALENDAR
