BEGIN:VCALENDAR
VERSION:2.0
PRODID:-//AMS//NONSGML v1.0//EN
BEGIN:VEVENT
DTSTAMP:20240212T000000
DTSTART:20240215T000000
DTEND:20240216T000000
SUMMARY:37th International Conference on Nanomaterials and Nanotechnology
DESCRIPTION:37th International Conference on Nanomaterials and Nanotechnology http://nanomaterials.insightconferences.com/
END:VEVENT
END:VCALENDAR
