BEGIN:VCALENDAR
VERSION:2.0
PRODID:-//AMS//NONSGML v1.0//EN
BEGIN:VEVENT
DTSTAMP:20240212T000000
DTSTART:20240311T000000
DTEND:20240315T000000
SUMMARY:Special Holonomy and Geometric Structures on Complex Manifolds
DESCRIPTION:Special Holonomy and Geometric Structures on Complex Manifolds http://impa.br/eventos-do-impa/2024-2/special-holonomy-and-geometric-structures-on-complex-manifolds-2/
END:VEVENT
END:VCALENDAR
