BEGIN:VCALENDAR
VERSION:2.0
PRODID:-//AMS//NONSGML v1.0//EN
BEGIN:VEVENT
DTSTAMP:20240212T000000
DTSTART:20240225T000000
DTEND:20240227T000000
SUMMARY:Conference on Enumerative and Algebraic Combinatorics
DESCRIPTION:Conference on Enumerative and Algebraic Combinatorics http://combinatorics.math.ufl.edu/conferences/sagan2024/
END:VEVENT
END:VCALENDAR
