BEGIN:VCALENDAR
VERSION:2.0
PRODID:-//AMS//NONSGML v1.0//EN
BEGIN:VEVENT
DTSTAMP:20240212T000000
DTSTART:20240304T000000
DTEND:20240306T000000
SUMMARY:International Conference : Recent Trends in Mathematics (ICM-SQU2024)
DESCRIPTION:International Conference : Recent Trends in Mathematics (ICM-SQU2024) http://conferences.squ.edu.om/rtm2024
END:VEVENT
END:VCALENDAR
