BEGIN:VCALENDAR
VERSION:2.0
PRODID:-//AMS//NONSGML v1.0//EN
BEGIN:VEVENT
DTSTAMP:20240212T000000
DTSTART:20240405T000000
DTEND:20240406T000000
SUMMARY:Current Developments in Mathematics 2024
DESCRIPTION:Current Developments in Mathematics 2024 http://www.math.harvard.edu/event/current-developments-in-mathematics-2024/
END:VEVENT
END:VCALENDAR
