BEGIN:VCALENDAR
VERSION:2.0
PRODID:-//AMS//NONSGML v1.0//EN
BEGIN:VEVENT
DTSTAMP:20240212T000000
DTSTART:20241111T000000
DTEND:20241112T000000
SUMMARY:International Conference on Neonatology and Advanced Pediatrics
DESCRIPTION:International Conference on Neonatology and Advanced Pediatrics http://www.neonatology.scientexconference.com
END:VEVENT
END:VCALENDAR
