BEGIN:VCALENDAR
VERSION:2.0
PRODID:-//AMS//NONSGML v1.0//EN
BEGIN:VEVENT
DTSTAMP:20240212T000000
DTSTART:20240304T000000
DTEND:20240308T000000
SUMMARY:Fifty-fifth Southeastern International Conference on Combinatorics, Graph Theory, and Computing
DESCRIPTION:Fifty-fifth Southeastern International Conference on Combinatorics, Graph Theory, and Computing http://math.fau.edu/combinatorics/index.php
END:VEVENT
END:VCALENDAR
