BEGIN:VCALENDAR
VERSION:2.0
PRODID:-//AMS//NONSGML v1.0//EN
BEGIN:VEVENT
DTSTAMP:20240212T000000
DTSTART:20240312T000000
DTEND:20240314T000000
SUMMARY:International Seminar on Topology, Algebra and Applications (ISTAA - 2024)
DESCRIPTION:International Seminar on Topology, Algebra and Applications (ISTAA - 2024) http://sites.google.com/nbu.ac.in/nbu-istaa-2024
END:VEVENT
END:VCALENDAR
