BEGIN:VCALENDAR
VERSION:2.0
PRODID:-//AMS//NONSGML v1.0//EN
BEGIN:VEVENT
DTSTAMP:20240212T000000
DTSTART:20240617T000000
DTEND:20240621T000000
SUMMARY:Current Trends in K&#228;hler Metrics with Special Curvature Properties
DESCRIPTION:Current Trends in K&#228;hler Metrics with Special Curvature Properties http://www.cirget.uqam.ca/Kahler/en/index.html
END:VEVENT
END:VCALENDAR
