BEGIN:VCALENDAR
VERSION:2.0
PRODID:-//AMS//NONSGML v1.0//EN
BEGIN:VEVENT
DTSTAMP:20240212T000000
DTSTART:20240904T000000
DTEND:20240906T000000
SUMMARY:Groups & Representations: after Roger Carter
DESCRIPTION:Groups & Representations: after Roger Carter http://warwick.ac.uk/fac/sci/maths/research/events/2023-2024/carterconference
END:VEVENT
END:VCALENDAR
