BEGIN:VCALENDAR
VERSION:2.0
PRODID:-//AMS//NONSGML v1.0//EN
BEGIN:VEVENT
DTSTAMP:20240212T000000
DTSTART:20240422T000000
DTEND:20240425T000000
SUMMARY:International Meeting on Applied Mathematics (IMAME'2024)
DESCRIPTION:International Meeting on Applied Mathematics (IMAME'2024) http://sites.google.com/view/imame24/home
END:VEVENT
END:VCALENDAR
