BEGIN:VCALENDAR
VERSION:2.0
PRODID:-//AMS//NONSGML v1.0//EN
BEGIN:VEVENT
DTSTAMP:20240212T000000
DTSTART:20240215T000000
DTEND:20240217T000000
SUMMARY:International Conference on Semigroups. Algebras and Discrete Structures (ICSADA 2024)
DESCRIPTION:International Conference on Semigroups. Algebras and Discrete Structures (ICSADA 2024) http://sites.google.com/view/icsada2024
END:VEVENT
END:VCALENDAR
