BEGIN:VCALENDAR
VERSION:2.0
PRODID:-//AMS//NONSGML v1.0//EN
BEGIN:VEVENT
DTSTAMP:20240212T000000
DTSTART:20240506T000000
DTEND:20240510T000000
SUMMARY:Higher Algebra, Geometry, and Topology
DESCRIPTION:Higher Algebra, Geometry, and Topology http://conferences.cirm-math.fr/2995.html
END:VEVENT
END:VCALENDAR
