BEGIN:VCALENDAR
VERSION:2.0
PRODID:-//AMS//NONSGML v1.0//EN
BEGIN:VEVENT
DTSTAMP:20240212T000000
DTSTART:20240611T000000
DTEND:20240614T000000
SUMMARY:SDS2024 - Structural Dynamical Systems: Computational Aspects
DESCRIPTION:SDS2024 - Structural Dynamical Systems: Computational Aspects http://sites.google.com/view/sds2024
END:VEVENT
END:VCALENDAR
