BEGIN:VCALENDAR
VERSION:2.0
PRODID:-//AMS//NONSGML v1.0//EN
BEGIN:VEVENT
DTSTAMP:20240212T000000
DTSTART:20240617T000000
DTEND:20240621T000000
SUMMARY:The Ninth Pacific Rim Conference in Mathematics Darwin
DESCRIPTION:The Ninth Pacific Rim Conference in Mathematics Darwin http://maths.anu.edu.au/news-events/events/ninth-pacific-rim-conference-mathematics-darwin
END:VEVENT
END:VCALENDAR
