BEGIN:VCALENDAR
VERSION:2.0
PRODID:-//AMS//NONSGML v1.0//EN
BEGIN:VEVENT
DTSTAMP:20240212T000000
DTSTART:20240902T000000
DTEND:20240907T000000
SUMMARY:New Methods in Finsler Geometry IV
DESCRIPTION:New Methods in Finsler Geometry IV http://mateinfo.unitbv.ro/ro/136-conferin&#539;e-category/577-finsler-about.html
END:VEVENT
END:VCALENDAR
