BEGIN:VCALENDAR
VERSION:2.0
PRODID:-//AMS//NONSGML v1.0//EN
BEGIN:VEVENT
DTSTAMP:20240212T000000
DTSTART:20241026T000000
DTEND:20241029T000000
SUMMARY:The 7th Mediterranean International Conference of Pure & Applied Mathematics and Related Areas (MICOPAM 2024)
DESCRIPTION:The 7th Mediterranean International Conference of Pure & Applied Mathematics and Related Areas (MICOPAM 2024) https://micopam.com
END:VEVENT
END:VCALENDAR
