BEGIN:VCALENDAR
VERSION:2.0
PRODID:-//AMS//NONSGML v1.0//EN
BEGIN:VEVENT
DTSTAMP:20240212T000000
DTSTART:20240503T000000
DTEND:20240505T000000
SUMMARY:59th annual Cornell Topology Festival
DESCRIPTION:59th annual Cornell Topology Festival http://e.math.cornell.edu/sites/topology/2024/index_2024.php
END:VEVENT
END:VCALENDAR
