BEGIN:VCALENDAR
VERSION:2.0
PRODID:-//AMS//NONSGML v1.0//EN
BEGIN:VEVENT
DTSTAMP:20240212T000000
DTSTART:20240709T000000
DTEND:20240711T000000
SUMMARY:11th International Congress on Fundamental and Applied Sciences 2024 (ICFAS2024)
DESCRIPTION:11th International Congress on Fundamental and Applied Sciences 2024 (ICFAS2024) http://icfas2024.intsa.org/
END:VEVENT
END:VCALENDAR
