BEGIN:VCALENDAR
VERSION:2.0
PRODID:-//AMS//NONSGML v1.0//EN
BEGIN:VEVENT
DTSTAMP:20240212T000000
DTSTART:20240707T000000
DTEND:20240710T000000
SUMMARY:The Eleventh Conference on New Trends of Differential Equations in Sciences (NTADES2024), 7-10 July 2024, St. Constantine and Helena, Bulgaria is organized in cooperation with the SIAM.
DESCRIPTION:The Eleventh Conference on New Trends of Differential Equations in Sciences (NTADES2024), 7-10 July 2024, St. Constantine and Helena, Bulgaria is organized in cooperation with the SIAM. http://www.ntades.eu
END:VEVENT
END:VCALENDAR
