BEGIN:VCALENDAR
VERSION:2.0
PRODID:-//AMS//NONSGML v1.0//EN
BEGIN:VEVENT
DTSTAMP:20240212T000000
DTSTART:20240422T000000
DTEND:20240426T000000
SUMMARY:Probability and Analysis 2024
DESCRIPTION:Probability and Analysis 2024 http://panda2024.pwr.edu.pl/
END:VEVENT
END:VCALENDAR
