BEGIN:VCALENDAR
VERSION:2.0
PRODID:-//AMS//NONSGML v1.0//EN
BEGIN:VEVENT
DTSTAMP:20240212T000000
DTSTART:20240516T000000
DTEND:20240517T000000
SUMMARY:2024 SIU Mathematics Conference
DESCRIPTION:2024 SIU Mathematics Conference http://math.siu.edu/llmc2024/
END:VEVENT
END:VCALENDAR
