BEGIN:VCALENDAR
VERSION:2.0
PRODID:-//AMS//NONSGML v1.0//EN
BEGIN:VEVENT
DTSTAMP:20240212T000000
DTSTART:20240603T000000
DTEND:20240613T000000
SUMMARY:Regulators V
DESCRIPTION:Regulators V http://regulators-v.dm.unipi.it/regulators-v-web.html
END:VEVENT
END:VCALENDAR
