BEGIN:VCALENDAR
VERSION:2.0
PRODID:-//AMS//NONSGML v1.0//EN
BEGIN:VEVENT
DTSTAMP:20240212T000000
DTSTART:20240703T000000
DTEND:20240706T000000
SUMMARY:XI International Scientific Conference "Modern Problems of Mathematics and Mechanics"
DESCRIPTION:XI International Scientific Conference "Modern Problems of Mathematics and Mechanics" http://mpmm.imm.az/
END:VEVENT
END:VCALENDAR
