BEGIN:VCALENDAR
VERSION:2.0
PRODID:-//AMS//NONSGML v1.0//EN
BEGIN:VEVENT
DTSTAMP:20240212T000000
DTSTART:20240406T000000
DTEND:20240409T000000
SUMMARY:BLAST 2024
DESCRIPTION:BLAST 2024 http://www.math.unt.edu/~ntrang/blast2024/
END:VEVENT
END:VCALENDAR
