BEGIN:VCALENDAR
VERSION:2.0
PRODID:-//AMS//NONSGML v1.0//EN
BEGIN:VEVENT
DTSTAMP:20240212T000000
DTSTART:20240919T000000
DTEND:20240920T000000
SUMMARY:International Conference on Hematology and Blood Disorders
DESCRIPTION:International Conference on Hematology and Blood Disorders http://www.scitechseries.com/hematology-blood
END:VEVENT
END:VCALENDAR
