BEGIN:VCALENDAR
VERSION:2.0
PRODID:-//AMS//NONSGML v1.0//EN
BEGIN:VEVENT
DTSTAMP:20240212T000000
DTSTART:20240607T000000
DTEND:20240609T000000
SUMMARY:Great Lakes Mathematical Physics Meeting 2024 (GLaMP 2024)
DESCRIPTION:Great Lakes Mathematical Physics Meeting 2024 (GLaMP 2024) http://sites.google.com/msu.edu/glamp/home?authuser=0
END:VEVENT
END:VCALENDAR
